BEGIN:VCALENDAR
VERSION:2.0
PRODID:-//Talks.cam//talks.cam.ac.uk//
X-WR-CALNAME:Talks.cam
BEGIN:VEVENT
SUMMARY:Constraining cosmology with redshift space distortions - Juliana K
 wan (Sydney)
DTSTART:20101027T121500Z
DTEND:20101027T124500Z
UID:TALK26178@talks.cam.ac.uk
CONTACT:Dr Jonathan Gair
DESCRIPTION:Abstract not available
LOCATION:Sackler Lecture Theatre\, IoA
END:VEVENT
END:VCALENDAR
