BEGIN:VCALENDAR
VERSION:2.0
PRODID:-//Talks.cam//talks.cam.ac.uk//
X-WR-CALNAME:Talks.cam
BEGIN:VEVENT
SUMMARY:The Multiscale Composite Dirichlet Process and its applications - 
 Christian Steinruecken (University of Cambridge)
DTSTART:20101101T110000Z
DTEND:20101101T120000Z
UID:TALK26186@talks.cam.ac.uk
CONTACT:Emli-Mari Nel
DESCRIPTION:This talk will present a novel non-parametric Bayesian model w
 hich can capture regularly structured pseudo-repetitive data.  The model i
 s very general\, and can be used with a wide range of data types including
  trees\, sequences\, pictures and music.\nVarious interactive demos will b
 e shown\, including one which generates rhythms and music.\n
LOCATION:TCM Seminar Room\, Cavendish Laboratory\, Department of Physics
END:VEVENT
END:VCALENDAR
