BEGIN:VCALENDAR
VERSION:2.0
PRODID:-//Talks.cam//talks.cam.ac.uk//
X-WR-CALNAME:Talks.cam
BEGIN:VEVENT
SUMMARY:Fourier series on triangles and tetrahedra - Huybrechs\, D (K.U. L
 euven\, BE)
DTSTART:20100913T103000Z
DTEND:20100913T113000Z
UID:TALK26241@talks.cam.ac.uk
CONTACT:Mustapha Amrani
DESCRIPTION:
LOCATION:Seminar Room 1\, Newton Institute
END:VEVENT
END:VCALENDAR
