BEGIN:VCALENDAR
VERSION:2.0
PRODID:-//Talks.cam//talks.cam.ac.uk//
X-WR-CALNAME:Talks.cam
BEGIN:VEVENT
SUMMARY:Modulated Fourier expansions for the long-time analysis of Hamilto
 nian PDEs - Gauckler\, L (Universitaet Tuebingen\, DE)
DTSTART:20100913T130000Z
DTEND:20100913T133000Z
UID:TALK26251@talks.cam.ac.uk
CONTACT:Mustapha Amrani
DESCRIPTION:
LOCATION:Seminar Room 1\, Newton Institute
END:VEVENT
END:VCALENDAR
