BEGIN:VCALENDAR
VERSION:2.0
PRODID:-//Talks.cam//talks.cam.ac.uk//
X-WR-CALNAME:Talks.cam
BEGIN:VEVENT
SUMMARY:A clinical context of old and new risk factors/pathways for diabet
 es: what's the real goal? - Professor Naveed Sattar\, University of Glasgo
 w
DTSTART:20101104T164500Z
DTEND:20101104T174500Z
UID:TALK26325@talks.cam.ac.uk
CONTACT:Victoria Bonnici
DESCRIPTION:Abstract not available
LOCATION:Seminar Rooms\, Metabolic Research Labs\, Level 4\, Institute of 
 Metabolic Science
END:VEVENT
END:VCALENDAR
