BEGIN:VCALENDAR
VERSION:2.0
PRODID:-//Talks.cam//talks.cam.ac.uk//
X-WR-CALNAME:Talks.cam
BEGIN:VEVENT
SUMMARY:Magellan looks at Venus - Prof Dan McKenzie\, University of Cambri
 dge
DTSTART:20110127T200000Z
DTEND:20110127T210000Z
UID:TALK26346@talks.cam.ac.uk
CONTACT:P. Dumitrescu
DESCRIPTION:Abstract not available
LOCATION:Bristol-Myers Squibb Lecture Theatre\, Department of Chemistry\, 
 Lensfield Road
END:VEVENT
END:VCALENDAR
