BEGIN:VCALENDAR
VERSION:2.0
PRODID:-//Talks.cam//talks.cam.ac.uk//
X-WR-CALNAME:Talks.cam
BEGIN:VEVENT
SUMMARY:Risk Writers Event Series: Mastering Operational Risk - John Thirl
 well
DTSTART:20101110T170000Z
DTEND:20101110T000000Z
UID:TALK26570@talks.cam.ac.uk
CONTACT:Ella Hewitt
DESCRIPTION:Mastering Operational Risk\, by Tony Blunden and John Thirlwel
 l (published by Financial Times Prentice Hall) is a practical guide to und
 erstanding operational risk and how to manage it. The global financial cri
 sis\, the Gulf of Mexico oil well disaster and the Icelandic volcano\, ope
 rational risk goes far beyond operations and process risks to cover all as
 pects of business risk – human failure\, strategic and reputational risk
 s\, as well as natural and man made disasters. Mastering Operational Risk 
 includes:\n\n•The business case for operational risk\n•Risk and contro
 l assessment\n•How to use operational risk indicators\n•Reporting oper
 ational risk\n•Modelling and stress-testing operational risk\n•Busines
 s continuity and insurance\n•Managing people risk\n•Containing reputat
 ional damage\n\nTo register for this event please email: ExecDirector.Risk
 @jbs.cam.ac.uk \n\nor visit: http://www.cr.jbs.cam.ac.uk/
LOCATION:Judge Business School\, Trumpington Street\, W2.01
END:VEVENT
END:VCALENDAR
