BEGIN:VCALENDAR
VERSION:2.0
PRODID:-//Talks.cam//talks.cam.ac.uk//
X-WR-CALNAME:Talks.cam
BEGIN:VEVENT
SUMMARY:Dynamical Challenges of Detecting Unseen Planetary Companions with
  Transit Timing Variations - Dimitri Veras\, IoA\, Cambridge
DTSTART:20101109T130000Z
DTEND:20101109T140000Z
UID:TALK26703@talks.cam.ac.uk
CONTACT:Sijme-Jan Paardekooper
DESCRIPTION:Abstract not available
LOCATION:MR14\, DAMTP\, Pav. F
END:VEVENT
END:VCALENDAR
