BEGIN:VCALENDAR
VERSION:2.0
PRODID:-//Talks.cam//talks.cam.ac.uk//
X-WR-CALNAME:Talks.cam
BEGIN:VEVENT
SUMMARY:How morphology affects photophysics and performance in polymer sol
 ar cells - Professor R Janssen\,  Technical University of Eindhoven
DTSTART:20101001T101000Z
DTEND:20101001T105000Z
UID:TALK26737@talks.cam.ac.uk
CONTACT:Richard Gymer
DESCRIPTION:Abstract not available
LOCATION:Small Lecture Theatre\, Cavendish Laboratory\, Department of Phys
 ics
END:VEVENT
END:VCALENDAR
