BEGIN:VCALENDAR
VERSION:2.0
PRODID:-//Talks.cam//talks.cam.ac.uk//
X-WR-CALNAME:Talks.cam
BEGIN:VEVENT
SUMMARY:Post-translational regulation of division versus differentiation i
 n the embryonic nervous system. - Dr Anna Philpott - Hutchinson\, MRC Camb
 ridge.
DTSTART:20101111T143000Z
DTEND:20101111T153000Z
UID:TALK26807@talks.cam.ac.uk
CONTACT:Becky Baglow
DESCRIPTION:Abstract not available
LOCATION:Part II room\,  Department of Genetics
END:VEVENT
END:VCALENDAR
