BEGIN:VCALENDAR
VERSION:2.0
PRODID:-//Talks.cam//talks.cam.ac.uk//
X-WR-CALNAME:Talks.cam
BEGIN:VEVENT
SUMMARY:CMS electricity usage: 8590.0 kWh on 28/09/10 - Previous day: 8267
 .5 kWh
DTSTART:20100930T000000Z
DTEND:20100930T010000Z
UID:TALK26833@talks.cam.ac.uk
CONTACT:Dankrad Feist
DESCRIPTION:
LOCATION:Average on weekdays: 8817.70930233 kWh
END:VEVENT
END:VCALENDAR
