BEGIN:VCALENDAR
VERSION:2.0
PRODID:-//Talks.cam//talks.cam.ac.uk//
X-WR-CALNAME:Talks.cam
BEGIN:VEVENT
SUMMARY:CANCELLED - Dr Julian Hibberd
DTSTART:20101101T200000Z
DTEND:20101101T213000Z
UID:TALK26877@talks.cam.ac.uk
CONTACT:15696
DESCRIPTION:Abstract not available
LOCATION:CANCELLED
END:VEVENT
END:VCALENDAR
