BEGIN:VCALENDAR
VERSION:2.0
PRODID:-//Talks.cam//talks.cam.ac.uk//
X-WR-CALNAME:Talks.cam
BEGIN:VEVENT
SUMMARY:How to read a children's book and why - Maria Nikolajeva
DTSTART:20101026T170000Z
DTEND:20101026T180000Z
UID:TALK26979@talks.cam.ac.uk
CONTACT:Melanie Keene
DESCRIPTION:Abstract not available
LOCATION:Horobin Room\, Homerton College
END:VEVENT
END:VCALENDAR
