BEGIN:VCALENDAR
VERSION:2.0
PRODID:-//Talks.cam//talks.cam.ac.uk//
X-WR-CALNAME:Talks.cam
BEGIN:VEVENT
SUMMARY:Global Gametes: Reproductive 'Tourism' and Islamic Bioethics in th
 e High-tech Middle East - Professor Marcia Inhorn\, The Diane Middlebrook 
 and Carl Djerassi Visiting Professor at the University of Cambridge Centre
  for Gender Studies
DTSTART:20101026T163000Z
DTEND:20101026T173000Z
UID:TALK27149@talks.cam.ac.uk
CONTACT:16895
DESCRIPTION:Professor Marcia Inhorn\, the William K Lanman Jr. Professor o
 f Anthropology and International Affairs at Yale University will be the fi
 rst Diane Middlebrook and Carl Djerassi Visiting Professor at the Universi
 ty of Cambridge Centre for Gender Studies.\n\nThe Inaugural Lecture of the
  Diane Middlebrook and Carl Djerassi Visiting Professorship will take plac
 e at 1730 on Tuesday 26 October 2010 at Clare College and will be hosted b
 y Sir Leszek Borysiewicz\, Vice-Chancellor\, University of Cambridge. The 
 Lecture wiill be followed by a drinks reception.\n
LOCATION:Riley Auditorium\, Gillespie Centre\, Memorial Court\, Clare Coll
 ege\, Queen's Road\, Cambridge\, CB3 9AJ
END:VEVENT
END:VCALENDAR
