BEGIN:VCALENDAR
VERSION:2.0
PRODID:-//Talks.cam//talks.cam.ac.uk//
X-WR-CALNAME:Talks.cam
BEGIN:VEVENT
SUMMARY:The Axiom of Determinacy - Adrian Mathias
DTSTART:20101013T130000Z
DTEND:20101013T150000Z
UID:TALK27399@talks.cam.ac.uk
CONTACT:Zach McKenzie
DESCRIPTION:A series of lectures on the Axiom of Determinacy (AD).
LOCATION:CMS\, MR10
END:VEVENT
END:VCALENDAR
