BEGIN:VCALENDAR
VERSION:2.0
PRODID:-//Talks.cam//talks.cam.ac.uk//
X-WR-CALNAME:Talks.cam
BEGIN:VEVENT
SUMMARY:The 2010 Cambridge iGEM talk: E.glowi- Self-sufficient light outpu
 t for biosensors and lighting - University of Cambridge iGEM2010 team
DTSTART:20101201T180000Z
DTEND:20101201T200000Z
UID:TALK28070@talks.cam.ac.uk
CONTACT:Dr Duncan Rowe
DESCRIPTION:*The International Genetically Engineered Machine Competition 
 in Synthetic Biology (iGEM) is an interdisciplinary contest in Synthetic B
 iology for undergraduate students. The competition is held in the spirit o
 f robotics competitions in engineering fields\, except that the students f
 ace the challenge of conceiving\, designing and implementing a synthetic b
 iological system using standard\, interchangeable DNA parts or “BioBrick
 s” and operating it in living cells\n\nThis years Cambridge team of unde
 rgraduate students will talk about their project on Self-sufficient light 
 output for biosensors & lighting and their experiences over the summer cul
 minating in the iGEM jamboree held at MIT\, Boston last November.\n\nMore 
 details about iGEM and Synthetic Biology at Cambridge can be found at:\n\n
 http://www.synbio.org.uk/\nhttp://www.synbio.org.uk/igem.html          htt
 p://2010.igem.org/Team:Cambridge          http://ung.igem.org/Main_Page*\n
LOCATION:Biffen Lecture Theatre\, Department of Genetics\, Downing Site
END:VEVENT
END:VCALENDAR
