BEGIN:VCALENDAR
VERSION:2.0
PRODID:-//Talks.cam//talks.cam.ac.uk//
X-WR-CALNAME:Talks.cam
BEGIN:VEVENT
SUMMARY:Reconciling conservation and development - Dr. Robert Bloomfield
DTSTART:20101126T190000Z
DTEND:20101126T203000Z
UID:TALK28139@talks.cam.ac.uk
CONTACT:8112
DESCRIPTION:Dr. Robert Bloomfield (UK Coordinator for the United Nation's 
 International Year of biodiversity and Head of the Innovation and Special 
 Projects at The Natural History Museum\, London) explains how biodiversity
  and conservation are compatible with\, and even integral for\, socio-econ
 omic development
LOCATION:Seminar Room 3\, Cripps Court\, Magdalene College
END:VEVENT
END:VCALENDAR
