BEGIN:VCALENDAR
VERSION:2.0
PRODID:-//Talks.cam//talks.cam.ac.uk//
X-WR-CALNAME:Talks.cam
BEGIN:VEVENT
SUMMARY:Solar Influence on Climate - Professor Lesley Gray (University of 
 Oxford)
DTSTART:20110302T140000Z
DTEND:20110302T150000Z
UID:TALK28402@talks.cam.ac.uk
CONTACT:Dr Scott Hosking
DESCRIPTION:Abstract not available
LOCATION:British Antarctic Survey\, Room 330B
END:VEVENT
END:VCALENDAR
