BEGIN:VCALENDAR
VERSION:2.0
PRODID:-//Talks.cam//talks.cam.ac.uk//
X-WR-CALNAME:Talks.cam
BEGIN:VEVENT
SUMMARY:Giving light an extra boost -- Doppler beaming in Kepler light cur
 ves - Steven Bloemen (Leuven)
DTSTART:20110202T134500Z
DTEND:20110202T141500Z
UID:TALK28434@talks.cam.ac.uk
CONTACT:20167
DESCRIPTION:Abstract not available
LOCATION:Sackler Lecture Theatre\, IoA
END:VEVENT
END:VCALENDAR
