BEGIN:VCALENDAR
VERSION:2.0
PRODID:-//Talks.cam//talks.cam.ac.uk//
X-WR-CALNAME:Talks.cam
BEGIN:VEVENT
SUMMARY:Birational classification of universal Jacobians over the moduli s
 pace of curves - Gavril Farkas (Berlin)
DTSTART:20110309T141500Z
DTEND:20110309T151500Z
UID:TALK28514@talks.cam.ac.uk
CONTACT:Burt Totaro
DESCRIPTION:The universal Jacobian J_g is the fibration\nover the moduli s
 pace of curves with fibres\nbeing Jacobians of curves of genus g. I will\n
 discuss recent joint work with A. Verra\nwhere a complete classification o
 f J_g\nby Kodaira dimension has been carried out.\nThus J_g is a uniration
 al variety when g is at most 9\,\nhas Kodaira dimension 0 (respectively 19
 )\nwhen g=10 (respectively g=11)\, and is of\nKodaira dimension 3g-3 for a
 ll other cases.
LOCATION:MR13\, CMS
END:VEVENT
END:VCALENDAR
