BEGIN:VCALENDAR
VERSION:2.0
PRODID:-//Talks.cam//talks.cam.ac.uk//
X-WR-CALNAME:Talks.cam
BEGIN:VEVENT
SUMMARY:&quot\;Human epidermal neural crest stem cells - characterization 
 and  directed differentiation into dopaminergic neurons and bone cells&quo
 t\; - Professor  Maya Sieber Blum\,Institute of Human Genetics and Northea
 st England Stem Cell Institute\, Newcastle University
DTSTART:20110223T120000Z
DTEND:20110223T130000Z
UID:TALK28775@talks.cam.ac.uk
CONTACT:Shannon Tinley-Browne
DESCRIPTION:Abstract not available
LOCATION:Brain Repair Centre\, Forvie Site\, Robinson Way
END:VEVENT
END:VCALENDAR
