BEGIN:VCALENDAR
VERSION:2.0
PRODID:-//Talks.cam//talks.cam.ac.uk//
X-WR-CALNAME:Talks.cam
BEGIN:VEVENT
SUMMARY:Why the nuts came loose at Potters Bar - Professor David Newland (
 CUED Emeritus)
DTSTART:20110225T160000Z
DTEND:20110225T170000Z
UID:TALK29069@talks.cam.ac.uk
CONTACT:Rebecca Loving
DESCRIPTION:Abstract not available
LOCATION:Cambridge University Engineering Department\, Oatley Seminar Room
END:VEVENT
END:VCALENDAR
