BEGIN:VCALENDAR
VERSION:2.0
PRODID:-//Talks.cam//talks.cam.ac.uk//
X-WR-CALNAME:Talks.cam
BEGIN:VEVENT
SUMMARY:&quot\;The good\, the bad and the ugly: Cooperation\, punishment a
 nd spite in chimpanzees and children&quot\; - Keith Jensen (Queen Mary –
  University of London)
DTSTART:20110202T123000Z
DTEND:20110202T133000Z
UID:TALK29099@talks.cam.ac.uk
CONTACT:Diane Pearce
DESCRIPTION:Abstract not available
LOCATION:Library\, Sub-Department of Animal Behaviour\, Madingley
END:VEVENT
END:VCALENDAR
