BEGIN:VCALENDAR
VERSION:2.0
PRODID:-//Talks.cam//talks.cam.ac.uk//
X-WR-CALNAME:Talks.cam
BEGIN:VEVENT
SUMMARY:The Coalition’s Vision for Science and Technology -  David Wille
 tts\, MP
DTSTART:20110303T183000Z
DTEND:20110303T193000Z
UID:TALK29320@talks.cam.ac.uk
CONTACT:18101
DESCRIPTION:*REGISTRATION DEADLINE TODAY (2nd March) at 6.30pm:\n http://s
 cisoc-minister.eventbrite.com/ *\nSince we exspect the tickets to go quick
 ly\, don't hesitate to sign up now.\n\nDavid Willetts\, Member of Parliame
 nt for Havant\, is a Conservative Minister in the Department for Business\
 , Innovation and Skills. As Minister of State for Universities and Science
 \, he will lay out the Coalition's vision for science and technology. "Thi
 s government wants science to emerge from this period to be strong\, susta
 inable and effective." he said. \n\n
LOCATION:Babbage Lecture Theater - New Museums Site
END:VEVENT
END:VCALENDAR
