BEGIN:VCALENDAR
VERSION:2.0
PRODID:-//Talks.cam//talks.cam.ac.uk//
X-WR-CALNAME:Talks.cam
BEGIN:VEVENT
SUMMARY:Romanian Nuclear New Build: Progress Amidst Turbulence - Raphael H
 effron (EPRG)
DTSTART:20110124T123000Z
DTEND:20110124T140000Z
UID:TALK29387@talks.cam.ac.uk
CONTACT:Yi-Jun Lin
DESCRIPTION:Abstract not available
LOCATION:Castle Teaching Room\, Judge Business School
END:VEVENT
END:VCALENDAR
