BEGIN:VCALENDAR
VERSION:2.0
PRODID:-//Talks.cam//talks.cam.ac.uk//
X-WR-CALNAME:Talks.cam
BEGIN:VEVENT
SUMMARY:Class Remobility- the Reconstruction of Capital Through Musical Fo
 stering - Ylva Hofvander Trulsson\, Academy of Music\, Lund University\, S
 weden
DTSTART:20110314T163000Z
DTEND:20110314T180000Z
UID:TALK29431@talks.cam.ac.uk
CONTACT:Ewa Illakowicz
DESCRIPTION:Through the narratives of immigrant parents on the significanc
 e of music learning\, Ylva Hofvander Trulsson will present perspectives on
  music education as a potential tool for class degraded immigrants to recl
 aim social position “through their children”. She will discuss the com
 plex interactions\, between teacher and parent\, parent and child\, studen
 t and teacher\, this process brings about and the possible impact it has o
 n the children.\n\nYlva Hofvander Trulsson\, PhD\, is Senior Lecturer in M
 usic Education at the Malmö Academy of Music\, Lund University\, Sweden\,
  where she teaches at the graduate level and conducts research on intercul
 tural perspectives in music education.\n
LOCATION:Faculty of Education\, 184 Hills Road\, Cambridge\, room GS1
END:VEVENT
END:VCALENDAR
