BEGIN:VCALENDAR
VERSION:2.0
PRODID:-//Talks.cam//talks.cam.ac.uk//
X-WR-CALNAME:Talks.cam
BEGIN:VEVENT
SUMMARY:Control of tissue growth by the Hippo signalling pathway in Drosop
 hila - Nic Tapon\, LRI Lincoln's Inn Fields Laboratories London
DTSTART:20110128T131500Z
DTEND:20110128T135500Z
UID:TALK29461@talks.cam.ac.uk
CONTACT:14541
DESCRIPTION:Abstract not available
LOCATION:Biffen Lecture Theatre\, Genetics\, Department of
END:VEVENT
END:VCALENDAR
