BEGIN:VCALENDAR
VERSION:2.0
PRODID:-//Talks.cam//talks.cam.ac.uk//
X-WR-CALNAME:Talks.cam
BEGIN:VEVENT
SUMMARY:Life in the Universe: Chance or Necessity? - Dr Nick Lane
DTSTART:20110221T200000Z
DTEND:20110221T213000Z
UID:TALK29505@talks.cam.ac.uk
CONTACT:15696
DESCRIPTION:Abstract not available
LOCATION:Winstanley Lecture Theatre\, Trinity College
END:VEVENT
END:VCALENDAR
