BEGIN:VCALENDAR
VERSION:2.0
PRODID:-//Talks.cam//talks.cam.ac.uk//
X-WR-CALNAME:Talks.cam
BEGIN:VEVENT
SUMMARY:Possible thermal controls on the seismic-aseismic transition in in
 traplate regions:   Can the mantle have significant long-term strength? - 
 Alastair Sloan
DTSTART:20110311T163000Z
DTEND:20110311T173000Z
UID:TALK29519@talks.cam.ac.uk
CONTACT:Jessica Irving
DESCRIPTION:Abstract not available
LOCATION:Tea Room\, Old House
END:VEVENT
END:VCALENDAR
