BEGIN:VCALENDAR
VERSION:2.0
PRODID:-//Talks.cam//talks.cam.ac.uk//
X-WR-CALNAME:Talks.cam
BEGIN:VEVENT
SUMMARY:Reliability and validity - Mark Shannon (Cambridge Assessment)
DTSTART:20110609T093000Z
DTEND:20110609T113000Z
UID:TALK29782@talks.cam.ac.uk
CONTACT:Elizabeth Ford
DESCRIPTION:This session will provide plenty of opportunity for group disc
 ussion of the philosophical issues which arise from the notions of reliabi
 lity and validity. During the session we will look at different concepts a
 nd definitions of reliability\, types of validity\, the concepts of reliab
 ility\, estimating reliability (methods based on Classical Test Theory) an
 d the factors affecting reliability.
LOCATION:Cambridge Assessment\, 1 Hills Road\, Cambridge
END:VEVENT
END:VCALENDAR
