BEGIN:VCALENDAR
VERSION:2.0
PRODID:-//Talks.cam//talks.cam.ac.uk//
X-WR-CALNAME:Talks.cam
BEGIN:VEVENT
SUMMARY:Short-term approaches and issues in counselling: Seminar 3 - Dr. J
 ohn McCarthy\, Department of Counseling at Indiana University of Pennsylva
 nia (USA)
DTSTART:20110309T123000Z
DTEND:20110309T134500Z
UID:TALK29851@talks.cam.ac.uk
CONTACT:Susannah Lacon
DESCRIPTION:*Motivational Interviewing: Helping youth to overcome ambivale
 nce*\n\nCombining both non-directive and directive elements\, Motivational
  Interviewing (MI) was formulated by Miller and Rollnick in the 1980s as a
  way to alleviate a person’s ambivalence about change.  The essence of M
 I is that change occurs through increasing clients’ intrinsic motivation
  and that external approaches\, such as persuasion\, coercion\, and confro
 ntation\, will not be successful.  Initially used in addictions counseling
 \, MI is now used in a variety of counselling settings and has significant
  empirical support behind it.\n
LOCATION:Donald McIntyre Building\, Faculty of Education\, 184 Hills Road\
 , Cambridge\, room 2S8
END:VEVENT
END:VCALENDAR
