BEGIN:VCALENDAR
VERSION:2.0
PRODID:-//Talks.cam//talks.cam.ac.uk//
X-WR-CALNAME:Talks.cam
BEGIN:VEVENT
SUMMARY:Some applications of the method of Fokas to linear and nonlinear p
 roblems - Beatrice Pelloni (University of Reading)
DTSTART:20110224T150000Z
DTEND:20110224T160000Z
UID:TALK29872@talks.cam.ac.uk
CONTACT:6743
DESCRIPTION:The extension of the inverse scattering transform\, due to Fok
 as\, can be used to for a variety of problems and purposes. I will discuss
   two examples: an application to the study of some non-self-adjoint linea
 r operators\, and the explicit solution  of a class of boundary value prob
 lems for the most important nonlinear elliptic integrable PDE\,  the so-ca
 lled elliptic sine-Gordon equation. 
LOCATION:MR14\, CMS
END:VEVENT
END:VCALENDAR
