BEGIN:VCALENDAR
VERSION:2.0
PRODID:-//Talks.cam//talks.cam.ac.uk//
X-WR-CALNAME:Talks.cam
BEGIN:VEVENT
SUMMARY:Title to be confirmed. - Irenee Daly\, Ph.D. Candidate\, Centre fo
 r Family Research\, University of Cambridge.
DTSTART:20110517T120000Z
DTEND:20110517T130000Z
UID:TALK30248@talks.cam.ac.uk
CONTACT:Rory Thomas Devine
DESCRIPTION:Abstract not available
LOCATION:Room 606\, Centre for Family Research
END:VEVENT
END:VCALENDAR
