BEGIN:VCALENDAR
VERSION:2.0
PRODID:-//Talks.cam//talks.cam.ac.uk//
X-WR-CALNAME:Talks.cam
BEGIN:VEVENT
SUMMARY:Preliminary assessment of wind climate fluctuations and use of dyn
 amical systems theory for resource assessment - Frh \, W (Heriot-Watt)
DTSTART:20110317T110000Z
DTEND:20110317T112000Z
UID:TALK30341@talks.cam.ac.uk
CONTACT:Mustapha Amrani
DESCRIPTION:2011/03/17
LOCATION:Seminar Room 1\, Newton Institute
END:VEVENT
END:VCALENDAR
