BEGIN:VCALENDAR
VERSION:2.0
PRODID:-//Talks.cam//talks.cam.ac.uk//
X-WR-CALNAME:Talks.cam
BEGIN:VEVENT
SUMMARY:The role of electrical energy storage in smart grids - Bialek\, J\
 , Wade\, N (Durham)
DTSTART:20110317T125500Z
DTEND:20110317T131500Z
UID:TALK30354@talks.cam.ac.uk
CONTACT:Mustapha Amrani
DESCRIPTION:2011/03/17
LOCATION:Seminar Room 1\, Newton Institute
END:VEVENT
END:VCALENDAR
