BEGIN:VCALENDAR
VERSION:2.0
PRODID:-//Talks.cam//talks.cam.ac.uk//
X-WR-CALNAME:Talks.cam
BEGIN:VEVENT
SUMMARY:CMS electricity usage: 8955.5 kWh on 22/03/11 - Previous day: 9204
 .0 kWh
DTSTART:20110324T010000Z
DTEND:20110324T020000Z
UID:TALK30452@talks.cam.ac.uk
CONTACT:Dankrad Feist
DESCRIPTION:
LOCATION:Average on weekdays: 9041.24407583 kWh
END:VEVENT
END:VCALENDAR
