BEGIN:VCALENDAR
VERSION:2.0
PRODID:-//Talks.cam//talks.cam.ac.uk//
X-WR-CALNAME:Talks.cam
BEGIN:VEVENT
SUMMARY:Spectra and Gaps as cohomological theory - Katzarkov\, L (IAS Prin
 ceton)
DTSTART:20110408T103000Z
DTEND:20110408T113000Z
UID:TALK30599@talks.cam.ac.uk
CONTACT:Mustapha Amrani
DESCRIPTION:In this lecture we will introduce the theory of spectra and ga
 ps of a category. We will make a connection with theory of algebraic cycle
 s and other classical questions in algebraic geometry.\n\n
LOCATION:Seminar Room 1\, Newton Institute
END:VEVENT
END:VCALENDAR
