BEGIN:VCALENDAR
VERSION:2.0
PRODID:-//Talks.cam//talks.cam.ac.uk//
X-WR-CALNAME:Talks.cam
BEGIN:VEVENT
SUMMARY:CMS electricity usage: 8743.0 kWh on 04/04/11 - Previous day: 7101
 .0 kWh
DTSTART:20110406T000000Z
DTEND:20110406T010000Z
UID:TALK30663@talks.cam.ac.uk
CONTACT:Dankrad Feist
DESCRIPTION:
LOCATION:Average on weekdays: 9029.46590909 kWh
END:VEVENT
END:VCALENDAR
