BEGIN:VCALENDAR
VERSION:2.0
PRODID:-//Talks.cam//talks.cam.ac.uk//
X-WR-CALNAME:Talks.cam
BEGIN:VEVENT
SUMMARY:&quot\;Manipulating dynamics: Galilean-invariant friction and stoc
 hastic thermostats&quot\; - Professor Herman Berendsen\, Groningen Biomole
 cular Sciences and Biotechnology Institute
DTSTART:20110518T130000Z
DTEND:20110518T143000Z
UID:TALK30711@talks.cam.ac.uk
CONTACT:Susan Begg
DESCRIPTION:Abstract not available
LOCATION:Unilever Lecture Theatre\, Unilever Centre for Molecular Informat
 ics\, Dept. of Chemistry
END:VEVENT
END:VCALENDAR
