BEGIN:VCALENDAR
VERSION:2.0
PRODID:-//Talks.cam//talks.cam.ac.uk//
X-WR-CALNAME:Talks.cam
BEGIN:VEVENT
SUMMARY:Diagonal cycles and Euler systems for real quadratic fields - Henr
 i Darmon (McGill University)
DTSTART:20110506T093000Z
DTEND:20110506T103000Z
UID:TALK30935@talks.cam.ac.uk
CONTACT:Tim Dokchitser
DESCRIPTION:Abstract not available
LOCATION:MR2
END:VEVENT
END:VCALENDAR
