BEGIN:VCALENDAR
VERSION:2.0
PRODID:-//Talks.cam//talks.cam.ac.uk//
X-WR-CALNAME:Talks.cam
BEGIN:VEVENT
SUMMARY:Title to be confirmed - Dr Miriam Vitiello\, Scuola Normale Super 
 (SNS)\, Pisa\, Italy
DTSTART:20110523T131500Z
DTEND:20110523T150000Z
UID:TALK31071@talks.cam.ac.uk
CONTACT:afw24
DESCRIPTION:Abstract not available
LOCATION:Mott Seminar Room\, Cavendish Laboratory\, Department of Physics
END:VEVENT
END:VCALENDAR
