BEGIN:VCALENDAR
VERSION:2.0
PRODID:-//Talks.cam//talks.cam.ac.uk//
X-WR-CALNAME:Talks.cam
BEGIN:VEVENT
SUMMARY:Hunter-gatherer societies in the Basque crossroads: current issues
  - Dr. Álvaro Arrizabalaga\, Departamento de Geografía\, Prehistoria y A
 rqueología Universidad del País Vasco
DTSTART:20110427T160000Z
DTEND:20110427T170000Z
UID:TALK31081@talks.cam.ac.uk
CONTACT:LCHES
DESCRIPTION:Abstract not available
LOCATION:Leverhulme Centre for Human Evolutionary Studies\, The Henry Well
 come Building\, Fitzwilliam Street\, Cambridge\, CB2 1QH
END:VEVENT
END:VCALENDAR
