BEGIN:VCALENDAR
VERSION:2.0
PRODID:-//Talks.cam//talks.cam.ac.uk//
X-WR-CALNAME:Talks.cam
BEGIN:VEVENT
SUMMARY:Probabilistic Euler Scheme for Fractional Conservational Laws - Ra
 phael Roux (Dauphine)
DTSTART:20110524T153000Z
DTEND:20110524T163000Z
UID:TALK31159@talks.cam.ac.uk
CONTACT:Berestycki
DESCRIPTION:I will present some facts about propagation of chaos for a sys
 tem of\nparticles driven by jump processes and interacting through their e
 mpirical\ndistribution function.\n\nThe system I will consider is designed
  in such a way that the limit process\nshould satisfies the fractional con
 servation law\, which is a nonlinear\npartial differential equation with n
 onlocal diffusion.\n\nI will present different convergence results about t
 he system\, depending of\nthe distribution of the jumps. In particular\, t
 he associated Euler scheme\nallows to simulate the solution to the fractio
 nal conservation law.\n
LOCATION:MR12\, CMS\, Wilberforce Road\, Cambridge\, CB3 0WB
END:VEVENT
END:VCALENDAR
