BEGIN:VCALENDAR
VERSION:2.0
PRODID:-//Talks.cam//talks.cam.ac.uk//
X-WR-CALNAME:Talks.cam
BEGIN:VEVENT
SUMMARY:Tachocline fluid dynamics: an interim assessment - Prof Michael E 
 McIntyre (University of Cambridge)
DTSTART:20110517T120000Z
DTEND:20110517T130000Z
UID:TALK31223@talks.cam.ac.uk
CONTACT:Henrik Latter
DESCRIPTION:Abstract not available
LOCATION:MR14\, DAMTP\, Pav. F
END:VEVENT
END:VCALENDAR
