BEGIN:VCALENDAR
VERSION:2.0
PRODID:-//Talks.cam//talks.cam.ac.uk//
X-WR-CALNAME:Talks.cam
BEGIN:VEVENT
SUMMARY:Why Methodism? The emergence and growth of the Methodist movement 
 - Rev Dr Brian Beck\, ex-President of the Methodist Conference
DTSTART:20110501T111000Z
DTEND:20110501T120000Z
UID:TALK31231@talks.cam.ac.uk
CONTACT:Theo Markettos
DESCRIPTION:Abstract not available
LOCATION:The Octagon\, Wesley Methodist Church\, Christ's Pieces
END:VEVENT
END:VCALENDAR
