BEGIN:VCALENDAR
VERSION:2.0
PRODID:-//Talks.cam//talks.cam.ac.uk//
X-WR-CALNAME:Talks.cam
BEGIN:VEVENT
SUMMARY:Proton-coupled electron transfer from ab initio molecular dynamics
  - Dr Jun Cheng (CUC3)
DTSTART:20110617T110000Z
DTEND:20110617T120000Z
UID:TALK31759@talks.cam.ac.uk
CONTACT:Dr Mark Miller
DESCRIPTION:Abstract not available
LOCATION:Unilever Lecture Theatre\, Department of Chemistry
END:VEVENT
END:VCALENDAR
