BEGIN:VCALENDAR
VERSION:2.0
PRODID:-//Talks.cam//talks.cam.ac.uk//
X-WR-CALNAME:Talks.cam
BEGIN:VEVENT
SUMMARY:Progress towards a biomarker discovery-to-development pipeline in 
 clinical proteomics - Michael Gillette\, Broad Institute of MIT and Harvar
 d
DTSTART:20110627T120000Z
DTEND:20110627T130000Z
UID:TALK31766@talks.cam.ac.uk
CONTACT:Laura Blackburn
DESCRIPTION:Abstract not available
LOCATION:Cancer Research UK Cambridge Research Institute\, Lecture Theatre
END:VEVENT
END:VCALENDAR
