BEGIN:VCALENDAR
VERSION:2.0
PRODID:-//Talks.cam//talks.cam.ac.uk//
X-WR-CALNAME:Talks.cam
BEGIN:VEVENT
SUMMARY:The logarithmic Laplace transform in convex geometry - Klartag\, B
  (Tel-Aviv)
DTSTART:20110622T143000Z
DTEND:20110622T153000Z
UID:TALK31822@talks.cam.ac.uk
CONTACT:Mustapha Amrani
DESCRIPTION:My plan is to give a slow introduction to the use of the logar
 ithmic Laplace transform in obtaining bounds on the isotropic constants of
  convex bodies. We will review the proofs of Bourgain's n^{1/4} bound\, th
 e bound by the width of the thinshell\, and the bound in term of the sub-g
 aussian coefficient. This talk is based on joint works with Ronen Eldan an
 d with Emanuel Milman.\n\n
LOCATION:Seminar Room 1\, Newton Institute
END:VEVENT
END:VCALENDAR
