BEGIN:VCALENDAR
VERSION:2.0
PRODID:-//Talks.cam//talks.cam.ac.uk//
X-WR-CALNAME:Talks.cam
BEGIN:VEVENT
SUMMARY:Lapis lazuli and the Virgin's Robe - Dr Spike Bucklow\, Hamilton K
 err Institute
DTSTART:20111024T163000Z
DTEND:20111024T173000Z
UID:TALK31914@talks.cam.ac.uk
CONTACT:Beverley Larner
DESCRIPTION:Abstract not available
LOCATION:Bristol-Myers-Squibb Lecture theatre\, Department of Chemistry
END:VEVENT
END:VCALENDAR
