BEGIN:VCALENDAR
VERSION:2.0
PRODID:-//Talks.cam//talks.cam.ac.uk//
X-WR-CALNAME:Talks.cam
BEGIN:VEVENT
SUMMARY:Gilding the lily: understanding angiosperm diversity through petal
  evolution and development - Dr Beverley Glover\, Department of Plant Scie
 nces
DTSTART:20120213T173000Z
DTEND:20120213T183000Z
UID:TALK31918@talks.cam.ac.uk
CONTACT:Beverley Larner
DESCRIPTION:Abstract not available
LOCATION:Bristol-Myers-Squibb Lecture theatre\, Department of Chemistry
END:VEVENT
END:VCALENDAR
